BEGIN:VCALENDAR
VERSION:2.0
PRODID:-//World Wings International - ECPv6.15.20//NONSGML v1.0//EN
CALSCALE:GREGORIAN
METHOD:PUBLISH
X-ORIGINAL-URL:https://worldwingsinternational.net
X-WR-CALDESC:Events for World Wings International
REFRESH-INTERVAL;VALUE=DURATION:PT1H
X-Robots-Tag:noindex
X-PUBLISHED-TTL:PT1H
BEGIN:VTIMEZONE
TZID:America/New_York
BEGIN:DAYLIGHT
TZOFFSETFROM:-0500
TZOFFSETTO:-0400
TZNAME:EDT
DTSTART:20190310T070000
END:DAYLIGHT
BEGIN:STANDARD
TZOFFSETFROM:-0400
TZOFFSETTO:-0500
TZNAME:EST
DTSTART:20191103T060000
END:STANDARD
BEGIN:DAYLIGHT
TZOFFSETFROM:-0500
TZOFFSETTO:-0400
TZNAME:EDT
DTSTART:20200308T070000
END:DAYLIGHT
BEGIN:STANDARD
TZOFFSETFROM:-0400
TZOFFSETTO:-0500
TZNAME:EST
DTSTART:20201101T060000
END:STANDARD
BEGIN:DAYLIGHT
TZOFFSETFROM:-0500
TZOFFSETTO:-0400
TZNAME:EDT
DTSTART:20210314T070000
END:DAYLIGHT
BEGIN:STANDARD
TZOFFSETFROM:-0400
TZOFFSETTO:-0500
TZNAME:EST
DTSTART:20211107T060000
END:STANDARD
END:VTIMEZONE
BEGIN:VEVENT
DTSTART;VALUE=DATE:20200911
DTEND;VALUE=DATE:20200919
DTSTAMP:20260424T144110
CREATED:20190809T224211Z
LAST-MODIFIED:20190809T224211Z
UID:9280-1599782400-1600473599@worldwingsinternational.net
SUMMARY:51st Annual Convention - Alaska Cruise
DESCRIPTION:Join us on a fabulous cruise to Alaska\, setting sail from Seattle on September 11\, 2020.
URL:https://worldwingsinternational.net/event/51st-annual-convention-alaska-cruise/
LOCATION:Smith Cove Cruise Terminal at Pier 91 – Port of Seattle\, 2001 W Garfield Way\, Seattle\, WA\, 98199\, United States
END:VEVENT
END:VCALENDAR