BEGIN:VCALENDAR
VERSION:2.0
PRODID:-//World Wings International - ECPv6.15.17//NONSGML v1.0//EN
CALSCALE:GREGORIAN
METHOD:PUBLISH
X-ORIGINAL-URL:https://worldwingsinternational.net
X-WR-CALDESC:Events for World Wings International
REFRESH-INTERVAL;VALUE=DURATION:PT1H
X-Robots-Tag:noindex
X-PUBLISHED-TTL:PT1H
BEGIN:VTIMEZONE
TZID:America/New_York
BEGIN:DAYLIGHT
TZOFFSETFROM:-0500
TZOFFSETTO:-0400
TZNAME:EDT
DTSTART:20220313T070000
END:DAYLIGHT
BEGIN:STANDARD
TZOFFSETFROM:-0400
TZOFFSETTO:-0500
TZNAME:EST
DTSTART:20221106T060000
END:STANDARD
BEGIN:DAYLIGHT
TZOFFSETFROM:-0500
TZOFFSETTO:-0400
TZNAME:EDT
DTSTART:20230312T070000
END:DAYLIGHT
BEGIN:STANDARD
TZOFFSETFROM:-0400
TZOFFSETTO:-0500
TZNAME:EST
DTSTART:20231105T060000
END:STANDARD
BEGIN:DAYLIGHT
TZOFFSETFROM:-0500
TZOFFSETTO:-0400
TZNAME:EDT
DTSTART:20240310T070000
END:DAYLIGHT
BEGIN:STANDARD
TZOFFSETFROM:-0400
TZOFFSETTO:-0500
TZNAME:EST
DTSTART:20241103T060000
END:STANDARD
END:VTIMEZONE
BEGIN:VEVENT
DTSTART;TZID=America/New_York:20231029T080000
DTEND;TZID=America/New_York:20231101T080000
DTSTAMP:20260420T185438
CREATED:20220612T134948Z
LAST-MODIFIED:20220612T210058Z
UID:15630-1698566400-1698825600@worldwingsinternational.net
SUMMARY:54th Annual Convention - Scottsdale
DESCRIPTION:Join us for World Wings International’s 54th annual convention!\n\nOctober 29 – November 1\nThe Scottsdale Resort at McCormick Ranch\nScottsdale\, Arizona
URL:https://worldwingsinternational.net/event/54th-annual-convention-scottsdale/
LOCATION:The Scottsdale Resort at McCormick Ranch\, 7700 E McCormick Pkwy\, Scottsdale\, AZ\, 85258\, United States
END:VEVENT
END:VCALENDAR