BEGIN:VCALENDAR
VERSION:2.0
PRODID:-//World Wings International - ECPv6.15.17//NONSGML v1.0//EN
CALSCALE:GREGORIAN
METHOD:PUBLISH
X-ORIGINAL-URL:https://worldwingsinternational.net
X-WR-CALDESC:Events for World Wings International
REFRESH-INTERVAL;VALUE=DURATION:PT1H
X-Robots-Tag:noindex
X-PUBLISHED-TTL:PT1H
BEGIN:VTIMEZONE
TZID:America/New_York
BEGIN:DAYLIGHT
TZOFFSETFROM:-0500
TZOFFSETTO:-0400
TZNAME:EDT
DTSTART:20230312T070000
END:DAYLIGHT
BEGIN:STANDARD
TZOFFSETFROM:-0400
TZOFFSETTO:-0500
TZNAME:EST
DTSTART:20231105T060000
END:STANDARD
BEGIN:DAYLIGHT
TZOFFSETFROM:-0500
TZOFFSETTO:-0400
TZNAME:EDT
DTSTART:20240310T070000
END:DAYLIGHT
BEGIN:STANDARD
TZOFFSETFROM:-0400
TZOFFSETTO:-0500
TZNAME:EST
DTSTART:20241103T060000
END:STANDARD
BEGIN:DAYLIGHT
TZOFFSETFROM:-0500
TZOFFSETTO:-0400
TZNAME:EDT
DTSTART:20250309T070000
END:DAYLIGHT
BEGIN:STANDARD
TZOFFSETFROM:-0400
TZOFFSETTO:-0500
TZNAME:EST
DTSTART:20251102T060000
END:STANDARD
BEGIN:DAYLIGHT
TZOFFSETFROM:-0500
TZOFFSETTO:-0400
TZNAME:EDT
DTSTART:20260308T070000
END:DAYLIGHT
BEGIN:STANDARD
TZOFFSETFROM:-0400
TZOFFSETTO:-0500
TZNAME:EST
DTSTART:20261101T060000
END:STANDARD
END:VTIMEZONE
BEGIN:VEVENT
DTSTART;TZID=America/New_York:20240509T110000
DTEND;TZID=America/New_York:20240509T140000
DTSTAMP:20260420T233122
CREATED:20240305T022018Z
LAST-MODIFIED:20240305T023149Z
UID:18491-1715252400-1715263200@worldwingsinternational.net
SUMMARY:Manhattan Spring Luncheon 2024
DESCRIPTION:
URL:https://worldwingsinternational.net/event/manhattan-spring-luncheon/
LOCATION:Tavern on the Green\, Tavern On the Green\, W 67th St\, New York\, NY\, 10023\, United States
END:VEVENT
BEGIN:VEVENT
DTSTART;VALUE=DATE:20240920
DTEND;VALUE=DATE:20240924
DTSTAMP:20260420T233122
CREATED:20230725T032546Z
LAST-MODIFIED:20230725T033156Z
UID:17349-1726790400-1727135999@worldwingsinternational.net
SUMMARY:WWI 55th Convention - London
DESCRIPTION:World Wings 2024 Convention\nLondon
URL:https://worldwingsinternational.net/event/wwi-55th-convention-london/
LOCATION:Leonardo Royal Hotel London City\, 8-14 Cooper's Row\, London\, EC3N 2BQ\, United Kingdom
END:VEVENT
BEGIN:VEVENT
DTSTART;TZID=America/New_York:20241005T183000
DTEND;TZID=America/New_York:20241005T230000
DTSTAMP:20260420T233122
CREATED:20240311T005728Z
LAST-MODIFIED:20240604T232503Z
UID:18567-1728153000-1728169200@worldwingsinternational.net
SUMMARY:The Pan Am Museum Gala - PanAmania!
DESCRIPTION:The Pan Am Museum Presents PANAMANIA! \nOCTOBER 5 @ 6:30 PM – 11:00 PM EDT\nCelebrating the 60th Anniversary of the Beatles and Pan Am! \nTickets: $275 for Non-Members / $250 for Members (Available Soon) \nEntertainment: Strawberry Fields – “The Ultimate Beatles Tribute Band in full Costume\, Featuring Cast Members of the Broadway Hit Musical\, Beatlemania” \nAccommodations: Long Island Marriott – $229/night
URL:https://worldwingsinternational.net/event/the-pan-am-museum-gala-panamania/
LOCATION:Cradle of Aviation Museum\, Charles Lindbergh Blvd\, Garden City\, NY\, 11530\, United States
END:VEVENT
BEGIN:VEVENT
DTSTART;VALUE=DATE:20250403
DTEND;VALUE=DATE:20250411
DTSTAMP:20260420T233122
CREATED:20240211T160715Z
LAST-MODIFIED:20240211T161959Z
UID:18341-1743638400-1744329599@worldwingsinternational.net
SUMMARY:Pan Am Museum Fundraiser Cruise
DESCRIPTION:COLORS OF PROVENCE \nAPRIL 3\, 2025 – APRIL 10\, 2025 \nCruise With Us!\nIt’s here!! The Pan Am Museum Foundation 2025 Fundraiser Cruise \nfrom Arles to Lyon on the breathtaking Rhone River \nClick here for details!
URL:https://worldwingsinternational.net/event/pan-am-museum-fundraiser-cruise/
LOCATION:WA
END:VEVENT
BEGIN:VEVENT
DTSTART;TZID=America/New_York:20250904T173000
DTEND;TZID=America/New_York:20250904T230000
DTSTAMP:20260420T233122
CREATED:20250510T135012Z
LAST-MODIFIED:20250717T185407Z
UID:19917-1757007000-1757026800@worldwingsinternational.net
SUMMARY:The Pan Am Museum Gala: Across the Pacific
DESCRIPTION:Join us at the Pan Am Museum’s 2025 Gala in Seattle.
URL:https://worldwingsinternational.net/event/across-the-pacific/
LOCATION:Renaissance Hotel Seattle\, 515 Madison Street\, Seattle\, WA\, 98104\, United States
END:VEVENT
BEGIN:VEVENT
DTSTART;VALUE=DATE:20250905
DTEND;VALUE=DATE:20250913
DTSTAMP:20260420T233122
CREATED:20240604T230912Z
LAST-MODIFIED:20240604T231927Z
UID:18962-1757030400-1757721599@worldwingsinternational.net
SUMMARY:56th Annual World Wings Convention - Alaska Cruise
DESCRIPTION:Join us on World Wings International’s 5th Annual convention\, aboard the Celebrity Edge. Open to all World Wings members and former Pan Am employees. Visit the website for details.
URL:https://worldwingsinternational.net/event/56th-annual-world-wings-convention-alaska-cruise/
LOCATION:Smith Cove Cruise Terminal at Pier 91 – Port of Seattle\, 2001 W Garfield Way\, Seattle\, WA\, 98199\, United States
END:VEVENT
END:VCALENDAR