BEGIN:VCALENDAR
VERSION:2.0
PRODID:-//World Wings International - ECPv6.15.17//NONSGML v1.0//EN
CALSCALE:GREGORIAN
METHOD:PUBLISH
X-WR-CALNAME:World Wings International
X-ORIGINAL-URL:https://worldwingsinternational.net
X-WR-CALDESC:Events for World Wings International
REFRESH-INTERVAL;VALUE=DURATION:PT1H
X-Robots-Tag:noindex
X-PUBLISHED-TTL:PT1H
BEGIN:VTIMEZONE
TZID:America/New_York
BEGIN:DAYLIGHT
TZOFFSETFROM:-0500
TZOFFSETTO:-0400
TZNAME:EDT
DTSTART:20150308T070000
END:DAYLIGHT
BEGIN:STANDARD
TZOFFSETFROM:-0400
TZOFFSETTO:-0500
TZNAME:EST
DTSTART:20151101T060000
END:STANDARD
BEGIN:DAYLIGHT
TZOFFSETFROM:-0500
TZOFFSETTO:-0400
TZNAME:EDT
DTSTART:20160313T070000
END:DAYLIGHT
BEGIN:STANDARD
TZOFFSETFROM:-0400
TZOFFSETTO:-0500
TZNAME:EST
DTSTART:20161106T060000
END:STANDARD
BEGIN:DAYLIGHT
TZOFFSETFROM:-0500
TZOFFSETTO:-0400
TZNAME:EDT
DTSTART:20170312T070000
END:DAYLIGHT
BEGIN:STANDARD
TZOFFSETFROM:-0400
TZOFFSETTO:-0500
TZNAME:EST
DTSTART:20171105T060000
END:STANDARD
BEGIN:DAYLIGHT
TZOFFSETFROM:-0500
TZOFFSETTO:-0400
TZNAME:EDT
DTSTART:20180311T070000
END:DAYLIGHT
BEGIN:STANDARD
TZOFFSETFROM:-0400
TZOFFSETTO:-0500
TZNAME:EST
DTSTART:20181104T060000
END:STANDARD
END:VTIMEZONE
BEGIN:VEVENT
DTSTART;TZID=America/New_York:20171201T170000
DTEND;TZID=America/New_York:20171201T203000
DTSTAMP:20260422T174852
CREATED:20171028T141323Z
LAST-MODIFIED:20171028T141323Z
UID:5795-1512147600-1512160200@worldwingsinternational.net
SUMMARY:HFL Christmas Party
DESCRIPTION:Program will be an international Christmas party with an airline theme.  Bring your favorite Christmas potluck dish and let Ellen know what you plan.
URL:https://worldwingsinternational.net/event/hfl-christmas-party/
LOCATION:Ellen Wenk\, 8680 SE 70th Terr\, Ocala\, FL\, 34472\, United States
ORGANIZER;CN="Ellen Wenk":MAILTO:PJWenk@aol.com
END:VEVENT
BEGIN:VEVENT
DTSTART;TZID=America/New_York:20171116T140000
DTEND;TZID=America/New_York:20171116T200000
DTSTAMP:20260422T174852
CREATED:20171101T041124Z
LAST-MODIFIED:20171101T041124Z
UID:5808-1510840800-1510862400@worldwingsinternational.net
SUMMARY:MIA Chapter - Coco Plum Charity Sale
DESCRIPTION:Once again our friend Aminta Konawicz of the Coco Plum WC has invited us to participate in her Holiday Bazaar. \nWe will have a table to sell  items. If you have something to donate please bring it along\, remember all items must be in excellent condition. Proceeds of our sales will benefit Miami chapter charities. \nEnjoy a delightful afternoon of hors d’oeuvres\, music\, fashion show\, and networking amongst friends. At 4 PM we will entertain the guests with a Pan Am uniform fashion show. \nPlease come and join us\, bring your friends and family for a fun afternoon and get into the holiday  spirit.\nRSVP to Aminta. Reserve your tickets in advance for $10 or pay $15 at the door. \nHope to see you there!
URL:https://worldwingsinternational.net/event/mia-chapter-coco-plum-charity-sale/
LOCATION:Coco Plum Woman’s Club\, 1375 Sunset Rd\, Coral Gables\, FL\, 33143\, United States
ORGANIZER;CN="Aminta Konawicz":MAILTO:AmintaUnitedRealtor@gmail.com
END:VEVENT
BEGIN:VEVENT
DTSTART;TZID=America/New_York:20171111T130000
DTEND;TZID=America/New_York:20171111T150000
DTSTAMP:20260422T174852
CREATED:20171108T142647Z
LAST-MODIFIED:20171108T144359Z
UID:5873-1510405200-1510412400@worldwingsinternational.net
SUMMARY:Atlanta Chapter Meeting/Luncheon
DESCRIPTION:The Atlanta Chapter is holding their November meeting on Saturday\, November 11th at Annie Kropp’s.\nPlease RSVP by November 8. \nSaturday\, 11 November\n1:00\n$20.00 pp \n322 Harvest View Terrace\nWoodstock\, GA 30188.\nThe RSVP deadline is November 8:  678-742-8602  or email below.
URL:https://worldwingsinternational.net/event/atlanta-chapter-meetingluncheon/
LOCATION:A Kropp\, 322 Harvest View Terr\, Woodstock\, GA\, 30188\, United States
ORGANIZER;CN="A Kropp":MAILTO:zouzoukropp@gmail.com
END:VEVENT
BEGIN:VEVENT
DTSTART;TZID=America/New_York:20171111T110000
DTEND;TZID=America/New_York:20171111T150000
DTSTAMP:20260422T174852
CREATED:20171028T140713Z
LAST-MODIFIED:20171028T140826Z
UID:5792-1510398000-1510412400@worldwingsinternational.net
SUMMARY:HFL Gator Tailgate Party
DESCRIPTION:Program will be a Gator Tailgate party. Bring your favorite tailgate food and any guests who enjoy football. The kick-off time hasn’t been announced yet but we will watch whatever is on. Since the game is at South Carolina\, there won’t be very much traffic. I would  advise driving up from the south on 441 which turns into 13th Street. Once you past UF\,  you will be in the NW section. Turn left on  NW 16th Avenue and drive West to NW 22 Street. Turn right (North) into Forest Ridge and continue on 22 Street\, past the roundabout  and on until you deadend on 24th Avenue. Turn right and we are the 2nd house on the right. Gator colors are orange and blue.
URL:https://worldwingsinternational.net/event/hfl-gator-tailgate-party/
LOCATION:Mala Lawrence\, 2101 NW 24th Avenue\, Gainsville\, FL\, 32605\, United States
ORGANIZER;CN="Mala Lawrence":MAILTO:malagsa_55@hotmail.com
END:VEVENT
BEGIN:VEVENT
DTSTART;TZID=America/New_York:20171108T120000
DTEND;TZID=America/New_York:20171108T140000
DTSTAMP:20260422T174852
CREATED:20171028T135203Z
LAST-MODIFIED:20171028T135413Z
UID:5789-1510142400-1510149600@worldwingsinternational.net
SUMMARY:Ft Lauderdale Cooking Demonstration and Luncheon
DESCRIPTION:Lenore Nolan-Ryan has invited us to a cooking demonstration and luncheon at her newly opened school located on A1A in Fort\nLauderdale. She will demonstrate preparation of Earthgrain Rice Pilaf & Mustard Shallot Vinaigrette\, and then serve: \nRed or White Wine Marinated Grilled Chicken Breast with Heritage\nGreens\, Fresh Berries\, Goat Cheese Caramelized Nuts\, Earthgrain Rice\nPilaf & Mustard Shallot Vinagrette\nEspresso Dark Chocolate Mousse\nMandarin Orange Iced Tea\, Sodas\, Bubble & Still Water\nSelection of wines & beer available based on consumption \nSend checks to Tracy Maxwell\, Treasurer. Checks must be received by Oct. 30.
URL:https://worldwingsinternational.net/event/ft-lauderdale-cooking-demonstration-and-luncheon/
LOCATION:Lenore Nolan-Ryan Catering and Cooking School\, 3311 North Ocean Blvd\, Ft. Lauderdale\, FL\, 33308\, United States
END:VEVENT
BEGIN:VEVENT
DTSTART;TZID=America/New_York:20171107T113000
DTEND;TZID=America/New_York:20171107T140000
DTSTAMP:20260422T174852
CREATED:20171031T122915Z
LAST-MODIFIED:20171031T122915Z
UID:5805-1510054200-1510063200@worldwingsinternational.net
SUMMARY:Seattle November Meeting
DESCRIPTION:Please join us in November for what promises to be a very interesting program.  We have scheduled an intriguing speaker\, Mr. Joshua Canady\, counselor and educator\, who will be talking about the benefits of using mindfulness in aging gracefully\, how we keep our bodies and minds healthy\, the effects of stress\, and how by using simple mindfulness techniques\, we can preserve our memory\, improve our pain levels\, foster good sleep\, and keep an overall emotional well being.  \nThe lunch is $17.00 which includes bottled water\, coffee and tea.  Wine will be available for $3/glass. \nThe box lunch choices are as follows:\n1. Lean Pastrami Sandwich on Light Rye- includes Tim’s Chips and a Chocolate Chip Cookie\n2. Cowboy Cobb Salad – Chopped romaine with bacon\, avocado\, seasoned chicken\, roasted corn and pinto beans. Choice of dressings will be available to you at the meeting. Roll/butter and chocolate chip cookie included\n3. Veggie Wrap – Flour tortilla filled with lettuce\, carrots\, cucumbers\, tomatoes\, avocado\, red onion–lightly dressed with vinaigrette and hummus. Tim’s Chips and chocolate chip cookie included\n4. Turkey Breast Sandwich\, brined and roasted in-house\, served with Swiss cheese on sourdough bread. Includes Tim’s Chips and chocolate chip cookie \nThe Wwaffle tickets will be sold at the luncheon: $2 each or 3/$5. \nPLEASE SEND YOUR CHECK (with meal choice indicated) TO SHERRY CRAWFORD BY SATURDAY\, NOVEMBER 4.  IT SHOULD BE MADE OUT TO “WORLD WINGS INTERNATIONAL” FOR $17.00.  (Late notice will incur an additional $3.00 fee.) Mail checks to:\nSherry Crawford\n8404 172nd Ave NE\nRedmond\, WA 98052-3217 \n(From time to time\, we have members who request to attend the programmed event but who do not want to join us in the luncheon offering.  Under this circumstance\, the fee is $10\, which helps with meeting expenses and adds to the charity funds\, as does the regular meeting charge.) \nWe look forward to greeting you once again in November!
URL:https://worldwingsinternational.net/event/seattle-november-meeting/
LOCATION:Irmela Koehler\, 1831 7th Ave W\, Seattle\, WA\, 98119\, United States
ORGANIZER;CN="Sherry Crawford":MAILTO:sherrycrawford22@gmail.com
END:VEVENT
BEGIN:VEVENT
DTSTART;VALUE=DATE:20171019
DTEND;VALUE=DATE:20171023
DTSTAMP:20260422T174852
CREATED:20160917T175115Z
LAST-MODIFIED:20170201T231313Z
UID:703-1508371200-1508716799@worldwingsinternational.net
SUMMARY:48th Annual Convention - Amsterdam
DESCRIPTION:
URL:https://worldwingsinternational.net/event/48th-annual-convention/
LOCATION:Grand Hotel Krasnapolsky\, Amsterdam\, Dam 9. 1012 JS\, Amsterdam\, Netherlands
END:VEVENT
BEGIN:VEVENT
DTSTART;VALUE=DATE:20170615
DTEND;VALUE=DATE:20170616
DTSTAMP:20260422T174852
CREATED:20170328T193651Z
LAST-MODIFIED:20170328T203137Z
UID:5112-1497484800-1497571199@worldwingsinternational.net
SUMMARY:Jet Wings articles due
DESCRIPTION:
URL:https://worldwingsinternational.net/event/jet-wings-articles-due-2/
ORGANIZER;CN="Leslie Manning":MAILTO:jetwingseditor@ worldwingsinternational.net
END:VEVENT
BEGIN:VEVENT
DTSTART;VALUE=DATE:20170522
DTEND;VALUE=DATE:20170525
DTSTAMP:20260422T174852
CREATED:20170328T201147Z
LAST-MODIFIED:20170328T201147Z
UID:5114-1495411200-1495670399@worldwingsinternational.net
SUMMARY:2017 CARE National Conference
DESCRIPTION:
URL:https://worldwingsinternational.net/event/2017-care-national-conference/
LOCATION:Mead Center for American Theater\, 1101 6th St SW\, Washington\, DC\, 20024\, United States
END:VEVENT
BEGIN:VEVENT
DTSTART;TZID=America/New_York:20170517T113000
DTEND;TZID=America/New_York:20170517T143000
DTSTAMP:20260422T174852
CREATED:20170509T150738Z
LAST-MODIFIED:20170509T150738Z
UID:5143-1495020600-1495031400@worldwingsinternational.net
SUMMARY:Florida Treasurer Coast Wine Tasting
DESCRIPTION:Join the Florida Treasurer Coast Chapter for “Good Wines\, Good Vibes & Good Times” at the Summer Crush Vineyard & Winery.  Bring a “Brown Bag” lunch and enjoy sampling the Summer Crush Wines under their Pavilion.
URL:https://worldwingsinternational.net/event/florida-treasurer-coast-wine-tasting/
LOCATION:Summer Crush Vineyard & Winery\, 4200 Johnston Road\, Ft. Pierce\, FL\, 34951\, United States
ORGANIZER;CN="Kathy DeMont":MAILTO:kathledemo@aol.com
END:VEVENT
BEGIN:VEVENT
DTSTART;TZID=America/New_York:20170515T080000
DTEND;TZID=America/New_York:20170520T170000
DTSTAMP:20260422T174852
CREATED:20160917T174959Z
LAST-MODIFIED:20160917T174959Z
UID:701-1494835200-1495299600@worldwingsinternational.net
SUMMARY:FIHCA Convention
DESCRIPTION:
URL:https://worldwingsinternational.net/event/fihca-convention/
LOCATION:Palermo\, Italy\, Palermo\, Italy
END:VEVENT
BEGIN:VEVENT
DTSTART;TZID=America/New_York:20170511T113000
DTEND;TZID=America/New_York:20170511T140000
DTSTAMP:20260422T174852
CREATED:20161023T183018Z
LAST-MODIFIED:20170314T183305Z
UID:4084-1494502200-1494511200@worldwingsinternational.net
SUMMARY:Manhattan Chapter Annual Spring Luncheon
DESCRIPTION:Manhattan Chapter Annual Spring Luncheon\nFundraiser\nThursday\, May 11th at 11:30am\nBattery Gardens Restaurant\n1 Battery Place (opposite 17 State Street\, on the water in Battery Park)\nNew York\, NY 10004\nPlease contact Serena via email to reserve a spot for this large (200+) and fun event. The social hour begins at 11:30; sit-down luncheon begins at 12:30. You will want to arrive before 11:30 in order to take advantage of a full hour’s worth of mingling on the waterfront terrace seeing many of your Pan Am friends. When emailing Serena\, please include your current chapter. The information is helpful when arranging seating\, as the luncheon draws World Wingers from many chapters.
URL:https://worldwingsinternational.net/event/manhattan-chapter-annual-spring-luncheon/
LOCATION:Battery Gardens Restaurant\, 1 Battery Pl\, New York\, NY\, 10004\, United States
ORGANIZER;CN="Serena Smith":MAILTO:sxsmith25@hotmail.com
END:VEVENT
BEGIN:VEVENT
DTSTART;TZID=America/New_York:20170507T093000
DTEND;TZID=America/New_York:20170507T093000
DTSTAMP:20260422T174852
CREATED:20170410T155723Z
LAST-MODIFIED:20170410T155723Z
UID:5120-1494149400-1494149400@worldwingsinternational.net
SUMMARY:LA Chapter Teal & Pink Walk
DESCRIPTION:2017 Annual Teal & Pink Walk Fundraiser\nSunday\, May 7 at 9:30 AM
URL:https://worldwingsinternational.net/event/la-chapter-teal-pink-walk/
LOCATION:Point Vicente Interpretive Center\, 31501 Palos Verdes Drive West\, Rancho Palos Verdes\, CA\, 90275\, United States
END:VEVENT
BEGIN:VEVENT
DTSTART;VALUE=DATE:20170401
DTEND;VALUE=DATE:20170402
DTSTAMP:20260422T174852
CREATED:20170328T200039Z
LAST-MODIFIED:20170328T200155Z
UID:5113-1491004800-1491091199@worldwingsinternational.net
SUMMARY:Ballots mailed to members for voting on Board of Directors positions
DESCRIPTION:
URL:https://worldwingsinternational.net/event/ballots-mailed-members-voting-board-directors-positions/
END:VEVENT
BEGIN:VEVENT
DTSTART;TZID=America/New_York:20170322T113000
DTEND;TZID=America/New_York:20170322T153000
DTSTAMP:20260422T174852
CREATED:20170228T135943Z
LAST-MODIFIED:20170228T135943Z
UID:5002-1490182200-1490196600@worldwingsinternational.net
SUMMARY:Los Angeles Chapter Lunch Meeting
DESCRIPTION:Join us for a Chapter Lunch Meeting at the home of Veronica Vongrosse on Wednesday March 22nd at 11:30 am \nRSVP to Veronica
URL:https://worldwingsinternational.net/event/los-angeles-chapter-lunch-meeting/
LOCATION:Veronica Vongrosse’s home\, 24331 Carlton Court\, Laguna Niguel\, CA\, 92677\, United States
END:VEVENT
BEGIN:VEVENT
DTSTART;TZID=America/New_York:20170318T113000
DTEND;TZID=America/New_York:20170318T153000
DTSTAMP:20260422T174852
CREATED:20170228T134447Z
LAST-MODIFIED:20170228T134447Z
UID:4997-1489836600-1489851000@worldwingsinternational.net
SUMMARY:Miami Chapter Spring Luncheon Meeting
DESCRIPTION:Please join us for our Spring Luncheon Meeting at the “94th Aero Squadron” on Saturday March 18th at 11:30 am \nRSVP to Heike Greenwood by Wednesday March 15th
URL:https://worldwingsinternational.net/event/miami-chapter-spring-luncheon-meeting/
LOCATION:94th Aero Squadron\, 1395 N.W. 57th Ave.\, Miami\, FL\, 33126\, United States
ORGANIZER;CN="Heike Greenwood":MAILTO:heikegreenwood@gmail.com
END:VEVENT
BEGIN:VEVENT
DTSTART;TZID=America/New_York:20170314T173000
DTEND;TZID=America/New_York:20170314T203000
DTSTAMP:20260422T174852
CREATED:20170220T164256Z
LAST-MODIFIED:20170220T165208Z
UID:4987-1489512600-1489523400@worldwingsinternational.net
SUMMARY:Florida Treasurer Coast - Trivia Night - Fundraiser
DESCRIPTION:The Florida Treasurer Coast Chapter annual Trivia Night fundraiser for the SafePlace will be held at the The Stuart Yacht & Country Club Clubhouse. \nPrice: $45.00 per person for dinner and donation. RSVP Kathy DeMont \nAll World Wings members and friends are welcome \n 
URL:https://worldwingsinternational.net/event/florida-treasurer-coast-trivia-night-fundraiser/
LOCATION:The Stuart Yacht & Country Club Clubhouse\, 3883 SE Fairway East\, Stuart\, FL\, 34997\, United States
ORGANIZER;CN="Kathy DeMont":MAILTO:kathledemo@aol.com
END:VEVENT
BEGIN:VEVENT
DTSTART;TZID=America/New_York:20170208T113000
DTEND;TZID=America/New_York:20170208T143000
DTSTAMP:20260422T174852
CREATED:20160922T210607Z
LAST-MODIFIED:20161106T210205Z
UID:3975-1486553400-1486564200@worldwingsinternational.net
SUMMARY:Ft. Lauderdale - Morikami Museum\, Docent-led Tour
DESCRIPTION:Docent-led tour of the gardens and lunch. \nRSVP by Feb. 2nd to Gerry Lewis or Debbie Smith (See Organizer section for details) \nFriends and other chapter members are welcome.
URL:https://worldwingsinternational.net/event/miami-morikami-museum-docent-led-tour/
LOCATION:Morikami Museum\, 4000 Morikami Park Rd\, Delray Beach\, FL\, 33446\, United States
ORGANIZER;CN="Gerry Lewis":MAILTO:ramslewis@aol.com
END:VEVENT
BEGIN:VEVENT
DTSTART;TZID=America/New_York:20170124T113000
DTEND;TZID=America/New_York:20170124T133000
DTSTAMP:20260422T174852
CREATED:20160922T201047Z
LAST-MODIFIED:20161106T205707Z
UID:3968-1485257400-1485264600@worldwingsinternational.net
SUMMARY:Houston Lunch at Carrabba's
DESCRIPTION:RSVP Edie Stavinoha (see Organizer section for details)
URL:https://worldwingsinternational.net/event/houston-lunch-at-carrabbas/
ORGANIZER;CN="Edie Stavinoha":MAILTO:estav@sbcglobal.net
END:VEVENT
BEGIN:VEVENT
DTSTART;VALUE=DATE:20170115
DTEND;VALUE=DATE:20170116
DTSTAMP:20260422T174852
CREATED:20160917T172201Z
LAST-MODIFIED:20160917T172241Z
UID:700-1484438400-1484524799@worldwingsinternational.net
SUMMARY:Jet Wings articles due
DESCRIPTION:Jet Wings articles\, reports and photos are due for the Winter/Spring 2017 edition.
URL:https://worldwingsinternational.net/event/jet-wings-articles-due/
END:VEVENT
BEGIN:VEVENT
DTSTART;TZID=America/New_York:20161211T180000
DTEND;TZID=America/New_York:20161211T220000
DTSTAMP:20260422T174852
CREATED:20160922T205735Z
LAST-MODIFIED:20160922T212701Z
UID:3972-1481479200-1481493600@worldwingsinternational.net
SUMMARY:Miami Holiday Party
DESCRIPTION:At the Coral Reef Yacht Club with the Clipper Pioneers
URL:https://worldwingsinternational.net/event/miami-holiday-party/
LOCATION:Coral Reef Yacht Club\, 2484 S Bayshore Dr\,\, Miami\, FL\, 33133\, United States
END:VEVENT
BEGIN:VEVENT
DTSTART;TZID=America/New_York:20161211T163000
DTEND;TZID=America/New_York:20161211T193000
DTSTAMP:20260422T174852
CREATED:20160922T210554Z
LAST-MODIFIED:20161106T210321Z
UID:3974-1481473800-1481484600@worldwingsinternational.net
SUMMARY:Ft. Lauderdale Holiday Party and Fundraiser
DESCRIPTION:Hosted by Tracy Maxwell \nRSVP to Tracy by December 4th (see Organizer section for details). Bring your favorite appetizer or dessert. \nFriends and other chapter members are welcome.
URL:https://worldwingsinternational.net/event/ft-lauderdale-holiday-party-and-fundraiser/
LOCATION:Tracy Maxwell’s Home\, 8638 SE Sharon Street\, Hobe Sound\, FL\, 33455\, United States
ORGANIZER;CN="Tracy Maxwell":MAILTO:tsmax@flightline.com
END:VEVENT
BEGIN:VEVENT
DTSTART;TZID=America/New_York:20161211T120000
DTEND;TZID=America/New_York:20161211T140000
DTSTAMP:20260422T174852
CREATED:20160922T193907Z
LAST-MODIFIED:20161106T204321Z
UID:3960-1481457600-1481464800@worldwingsinternational.net
SUMMARY:Boston Christmas Luncheon - Semi-annual Fundraiser
DESCRIPTION:Hosted by Mary Lou Bigelow & John O’Keefe \nRSVP to Mary Lou (see organizer info for details) \nA spiral ham will be the centerpiece so please coordinate you potluck dish with Mary Lou.  Don’t forget to bring $$$ for the raffle & Pan Am Brands Grand Prize.
URL:https://worldwingsinternational.net/event/boston-christmas-luncheon-semi-annual-fundraiser/
LOCATION:Mary Lou Bigelow\, 64 Baldpate Road\, Boxford\, MA\, 01921\, United States
ORGANIZER;CN="Mary Lou Bigelow":MAILTO:maryloubigelow@gmail.com
END:VEVENT
BEGIN:VEVENT
DTSTART;TZID=America/New_York:20161210T190000
DTEND;TZID=America/New_York:20161210T220000
DTSTAMP:20260422T174852
CREATED:20160922T200802Z
LAST-MODIFIED:20161107T191038Z
UID:3966-1481396400-1481407200@worldwingsinternational.net
SUMMARY:Houston Holiday Dinner
DESCRIPTION:Dinner home of Wanda Dunn \nRSVP Edie Stavinoha (see Organizer section for details)
URL:https://worldwingsinternational.net/event/houston-holiday-dinner/
LOCATION:Wanda Dunn’s Home\, 3924 Del Monte Drive\, Houston\, TX\, 77019\, United States
ORGANIZER;CN="Edie Stavinoha":MAILTO:estav@sbcglobal.net
END:VEVENT
BEGIN:VEVENT
DTSTART;TZID=America/New_York:20161207T113000
DTEND;TZID=America/New_York:20161207T140000
DTSTAMP:20260422T174852
CREATED:20161023T183730Z
LAST-MODIFIED:20161106T204925Z
UID:4568-1481110200-1481119200@worldwingsinternational.net
SUMMARY:Manhattan Chapter Annual Christmas Luncheon
DESCRIPTION:Manhattan Chapter Annual Christmas Luncheon\nFundraiser\nWednesday\, December 7th at 11:30am\nOrsay Restaurant\n1057 Lexington Ave (at 85th St)\nNew York\, NY 10021
URL:https://worldwingsinternational.net/event/manhattan-chapter-annual-christmas-luncheon/
LOCATION:Orsay Restaurant\, 1057 Lexington Ave\, New York\, NY\, 10021\, United States
ORGANIZER;CN="Serena Smith":MAILTO:sxsmith25@hotmail.com
END:VEVENT
BEGIN:VEVENT
DTSTART;TZID=America/New_York:20161203T110000
DTEND;TZID=America/New_York:20161203T150000
DTSTAMP:20260422T174852
CREATED:20160922T202258Z
LAST-MODIFIED:20160922T205917Z
UID:3969-1480762800-1480777200@worldwingsinternational.net
SUMMARY:Miami AWARE Reunion
DESCRIPTION:25th Anniversary of Pan Am’s demise
URL:https://worldwingsinternational.net/event/miami-aware-reunion/
LOCATION:Pan Am International Flight Academy\, 5000 NW 36th St\,\, Miami\, FL\, 33122\, United States
END:VEVENT
BEGIN:VEVENT
DTSTART;VALUE=DATE:20161029
DTEND;VALUE=DATE:20161105
DTSTAMP:20260422T174852
CREATED:20160908T133646Z
LAST-MODIFIED:20160917T171911Z
UID:348-1477699200-1478303999@worldwingsinternational.net
SUMMARY:47th Annual Convention
DESCRIPTION:
URL:https://worldwingsinternational.net/event/2016-annual-convention/
LOCATION:Port Everglades\, Port Everglades Terminal 1\, Ft. Lauderdale\, FL\, 33316\, United States
END:VEVENT
BEGIN:VEVENT
DTSTART;TZID=America/New_York:20161002T130000
DTEND;TZID=America/New_York:20161002T160000
DTSTAMP:20260422T174852
CREATED:20160922T200117Z
LAST-MODIFIED:20161106T205313Z
UID:3964-1475413200-1475424000@worldwingsinternational.net
SUMMARY:Houston Area PAN AM Reunion
DESCRIPTION:RSVP to Edie Stavinoha (see details below)
URL:https://worldwingsinternational.net/event/houston-area-pan-am-reunion/
LOCATION:1940 Air Terminal Museum\, 5385 Travelair\, Houston\, TX\, 77061\, United States
ORGANIZER;CN="Edie Stavinoha":MAILTO:estav@sbcglobal.net
END:VEVENT
END:VCALENDAR