BEGIN:VCALENDAR
VERSION:2.0
PRODID:-//World Wings International - ECPv6.15.20//NONSGML v1.0//EN
CALSCALE:GREGORIAN
METHOD:PUBLISH
X-WR-CALNAME:World Wings International
X-ORIGINAL-URL:https://worldwingsinternational.net
X-WR-CALDESC:Events for World Wings International
REFRESH-INTERVAL;VALUE=DURATION:PT1H
X-Robots-Tag:noindex
X-PUBLISHED-TTL:PT1H
BEGIN:VTIMEZONE
TZID:America/New_York
BEGIN:DAYLIGHT
TZOFFSETFROM:-0500
TZOFFSETTO:-0400
TZNAME:EDT
DTSTART:20180311T070000
END:DAYLIGHT
BEGIN:STANDARD
TZOFFSETFROM:-0400
TZOFFSETTO:-0500
TZNAME:EST
DTSTART:20181104T060000
END:STANDARD
BEGIN:DAYLIGHT
TZOFFSETFROM:-0500
TZOFFSETTO:-0400
TZNAME:EDT
DTSTART:20190310T070000
END:DAYLIGHT
BEGIN:STANDARD
TZOFFSETFROM:-0400
TZOFFSETTO:-0500
TZNAME:EST
DTSTART:20191103T060000
END:STANDARD
BEGIN:DAYLIGHT
TZOFFSETFROM:-0500
TZOFFSETTO:-0400
TZNAME:EDT
DTSTART:20200308T070000
END:DAYLIGHT
BEGIN:STANDARD
TZOFFSETFROM:-0400
TZOFFSETTO:-0500
TZNAME:EST
DTSTART:20201101T060000
END:STANDARD
END:VTIMEZONE
BEGIN:VEVENT
DTSTART;VALUE=DATE:20191109
DTEND;VALUE=DATE:20191110
DTSTAMP:20260424T200511
CREATED:20191001T010223Z
LAST-MODIFIED:20191001T010223Z
UID:10018-1573257600-1573343999@worldwingsinternational.net
SUMMARY:Atlanta Celebrates WWI's 60th
DESCRIPTION:Join the Atlanta chapter in celebrating World Wings International’s 60th anniversary!\nContact Annie Kropp for full details.
URL:https://worldwingsinternational.net/event/atlanta-celebrates-wwis-60th/
LOCATION:A Kropp\, 322 Harvest View Terr\, Woodstock\, GA\, 30188\, United States
ORGANIZER;CN="A Kropp":MAILTO:zouzoukropp@gmail.com
END:VEVENT
END:VCALENDAR